Workbook

Sheet ปริมาณ
A1: แบบฟอร์มตามข้อตกลงการกำหนดตัวชี้วัดเพื่อประเมินผลการปฏิบัติราชการ (Performmance Agreement)
A3: สังกัด | B3: สำนักวิทยบริการและเทคโนโลยีสารสนเทศ | C3: งาน
A4: ชื่อ-สกุล | C4: ตำแหน่ง | G4: รอบที่ 1/ | H4: 2564 | I4: วันที่ 1 มิถุนายน | K4: 2564 | L4: ถึง 30 พฤศจิกายน | N4: 2564
A5: เป็น ( ) ข้าราชการ ( P ) พนักงานมหาวิทยาลัย ( ) พนักงานราชการ ( ) ลูกจ้างประจำ ( ) ลูกจ้างเงินรายได้ | G5: รอบที่ 2/ | H5: 2564 | I5: วันที่ 1 ธันวาคม | K5: 2564 | L5: ถึง 31 พฤษภาคม | N5: 2565
A6: หัวข้อหน้าที่ | C6: น้ำหนัก | D6: ภาระงาน/วัตถุประสงค์ของงาน | F6: น้ำหนัก | G6: ตัวชี้วัดความสำเร็จ | H6: ค่าเป้าหมายและเกณฑ์การให้คะแนน | M6: หลักฐานบ่งชี้ความสำเร็จ
H7: 1 | I7: 2 | J7: 3 | K7: 4 | L7: 5
A8: องค์ประกอบที่ 1 ปริมาณงาน มีค่าคะแนน 100 คะแนน คิดเป็น 25%
A9: 1. งานตามหน้าที่/งานหลัก (มาจากส่วนที่ 2 ของ JD) | C9: 80 | D9: (เลือกมาจากส่วนที่ 3 ของ JD)
A10: 1.1 ชื่องานหลัก 1 | C10: 40 | D10: 1.1.1
A11: งาน | D11: 1.1.2
D12: 1.1.3
D13: 1.1.4
D14: 1.1.5
A15: งาน | D15: 1.1.6 | P15: เองและการประเมินของบุคลากรในระบบ HRD (ติดตามการจัดทำบันทึกข้อตกลงการกำหนตัวชี้วัดเพื่อปฏิบัติราชการ/แจ้งกำหนดการประเมิน/ติดตามบุคลากรให้ทำการประเมิน)
D16: 1.1.7
A17: 1.2 ชื่องานหลัก 2 | C17: 20 | D17: 1.2.1
A18: งาน | B18: สารบรรณและธุรการ | D18: 1.2.2
D19: 1.2.3
D20: 1.2.4
A21: 1.3 ชื่องานหลัก 3 | C21: 20 | D21: 1.3.1
A22: งาน | D22: 1.3.2
A24: 2. งานเพื่อการพัฒนา | C24: 10
A25: 2.1 งาน | B25: งานวิจัย/จัดทำคู่มือการปฏิบัติงาน | D25: 2.1.1 | E25: พัฒนางานที่ทำอยู่
A26: 2.2 งาน | B26: พัฒนาตนเองตามตำแหน่งงาน และพัฒนาด้านอื่น ๆ อีกไม่น้อยกว่า 2 ด้าน | D26: 2.1.2 | E26: พัฒนาตนเองตามตำแหน่งงาน และพัฒนาด้านอื่น ๆ อีกไม่น้อยกว่า 2 ด้าน
A27: 3. งานที่ได้รับมอบหมายพิเศษ | C27: 10
A28: 3.1 งาน | D28: 3.1.1
A29: 3.2 งาน | D29: 3.1.2
A30: 3.3 งาน | D30: 3.1.3
C32: ลงชื่อ | F32: ผู้รับมอบหมายงาน | H32: ลงชื่อ | M32: ผู้มอบหมายงาน
D33: =B4 | I33: (นายเอกชัย เนาวนิช)
D34: ........../................./........... | I34: ........../................./...........

Sheet คุณภาพ
A1: แบบฟอร์มตามข้อตกลงการกำหนดตัวชี้วัดเพื่อประเมินผลการปฏิบัติราชการ (Performmance Agreement)
A3: สังกัด | B3: =ปริมาณ!B3 -> สำนักวิทยบริการและเทคโนโลยีสารสนเทศ | C3: งาน | D3: =ปริมาณ!D3 -> 0
A4: ชื่อ-สกุล | B4: =ปริมาณ!B4 | C4: ตำแหน่ง | D4: =ปริมาณ!D4 -> 0 | G4: รอบที่ 1/ | H4: =ปริมาณ!H4 -> 2564 | I4: วันที่ 1 มิถุนายน | K4: =ปริมาณ!K4 -> 2564 | L4: ถึง 30 พฤศจิกายน | N4: =ปริมาณ!N4 -> 2564
A5: เป็น ( ) ข้าราชการ ( P ) พนักงานมหาวิทยาลัย ( ) พนักงานราชการ ( ) ลูกจ้างประจำ ( ) ลูกจ้างเงินรายได้ | G5: รอบที่ 2/ | H5: =ปริมาณ!H5 -> 2564 | I5: วันที่ 1 ธันวาคม | K5: =ปริมาณ!K5 -> 2564 | L5: ถึง 31 พฤษภาคม | N5: =ปริมาณ!N5 -> 2565
A6: หัวข้อหน้าที่ | C6: น้ำหนัก | D6: ภาระงาน/วัตถุประสงค์ของงาน | F6: น้ำหนัก | G6: ตัวชี้วัดความสำเร็จ | H6: ค่าเป้าหมายและเกณฑ์การให้คะแนน | M6: หลักฐานบ่งชี้ความสำเร็จ
H7: 1 | I7: 2 | J7: 3 | K7: 4 | L7: 5
A8: องค์ประกอบที่ 2 คุณภาพของงาน มีค่าคะแนน 100 คะแนน คิดเป็น 25%
A9: 1. งานตามหน้าที่/งานหลัก (มาจากส่วนที่ 2 ของ JD) | C9: 80 | D9: (เลือกมาจากส่วนที่ 3 ของ JD)
A10: 1.1 ชื่องานหลัก 1 | C10: 40 | D10: 1.1.1 | E10: =ปริมาณ!E10 -> 0 | F10: =ปริมาณ!F10 -> 0
A11: งาน | B11: =ปริมาณ!B11 -> 0 | D11: 1.1.2 | E11: =ปริมาณ!E11 -> 0 | F11: =ปริมาณ!F11 -> 0
D12: 1.1.3 | E12: =ปริมาณ!E12 -> 0 | F12: =ปริมาณ!F12 -> 0
D13: 1.1.4 | E13: =ปริมาณ!E13 -> 0 | F13: =ปริมาณ!F13 -> 0
D14: 1.1.5 | E14: =ปริมาณ!E14 -> 0 | F14: =ปริมาณ!F14 -> 0
D15: 1.1.6 | E15: =ปริมาณ!E15 -> 0 | F15: 3
D16: 1.1.7 | E16: =ปริมาณ!E16 -> 0 | F16: 2
A17: 1.2 ชื่องานหลัก 2 | C17: 20 | D17: 1.2.1 | E17: =ปริมาณ!E17 -> 0 | F17: =ปริมาณ!F17 -> 0
A18: งาน | B18: =ปริมาณ!B18 -> สารบรรณและธุรการ | D18: 1.2.2 | E18: =ปริมาณ!E18 -> 0 | F18: =ปริมาณ!F18 -> 0
D19: 1.2.3 | E19: =ปริมาณ!E19 -> 0 | F19: 5
D20: 1.2.4 | E20: =ปริมาณ!E20 -> 0 | F20: =ปริมาณ!F20 -> 0
A21: 1.3 ชื่องานหลัก 3 | C21: 20 | D21: 1.3.1 | E21: =ปริมาณ!E21 -> 0 | F21: =ปริมาณ!F21 -> 0
A22: งาน | B22: ส่งเสริมคุณภาพ | D22: 1.3.2 | E22: =ปริมาณ!E22 -> 0 | F22: =ปริมาณ!F22 -> 0
D23: 1.3.3 | E23: =ปริมาณ!E23 -> 0 | F23: =ปริมาณ!F23 -> 0
A24: 2. งานเพื่อการพัฒนา | C24: 10
A25: 2.1 งาน | B25: =ปริมาณ!B25:B26 -> งานวิจัย/จัดทำคู่มือการปฏิบัติงาน | D25: 2.1.1 | E25: =ปริมาณ!E25 -> พัฒนางานที่ทำอยู่ | F25: =ปริมาณ!F25 -> 0
A26: 2.3 งาน | B26: =ปริมาณ!B26 -> พัฒนาตนเองตามตำแหน่งงาน และพัฒนาด้านอื่น ๆ อีกไม่น้อยกว่า 2 ด้าน | D26: 2.1.2 | E26: =ปริมาณ!E26 -> พัฒนาตนเองตามตำแหน่งงาน และพัฒนาด้านอื่น ๆ อีกไม่น้อยกว่า 2 ด้าน | F26: =ปริมาณ!F26 -> 0
A27: 3. งานที่ได้รับมอบหมายพิเศษ | C27: 10
A28: 3.1 งาน | B28: =ปริมาณ!B28 -> 0 | D28: 3.1.1 | E28: =ปริมาณ!E28 -> 0 | F28: =ปริมาณ!F28 -> 0
A29: 3.2 งาน | B29: =ปริมาณ!B29 -> 0 | D29: 3.1.2 | E29: =ปริมาณ!E29 -> 0 | F29: =ปริมาณ!F29 -> 0
A30: 3.3 งาน | B30: =ปริมาณ!B30 -> 0 | D30: 3.1.3 | E30: =ปริมาณ!E30 -> 0 | F30: =ปริมาณ!F30 -> 0
C32: ลงชื่อ | F32: ผู้รับมอบหมายงาน | H32: ลงชื่อ | M32: ผู้มอบหมายงาน
D33: =ปริมาณ!B4 | I33: (นายเอกชัย เนาวนิช)
D34: ........../................./........... | I34: ........../................./...........

Sheet ผลผลิตของงาน
A1: แบบฟอร์มตามข้อตกลงการกำหนดตัวชี้วัดเพื่อประเมินผลการปฏิบัติราชการ (Performmance Agreement)
A3: สังกัด | B3: =คุณภาพ!B3 -> สำนักวิทยบริการและเทคโนโลยีสารสนเทศ | C3: งาน | D3: =ปริมาณ!D3 -> 0
A4: ชื่อ-สกุล | B4: =ปริมาณ!B4 | C4: ตำแหน่ง | D4: =ปริมาณ!D4 -> 0 | G4: รอบที่ 1/ | H4: =ปริมาณ!H4 -> 2564 | I4: วันที่ 1 มิถุนายน | K4: =ปริมาณ!K4 -> 2564 | L4: ถึง 30 พฤศจิกายน | N4: =ปริมาณ!N4 -> 2564
A5: เป็น ( ) ข้าราชการ ( P ) พนักงานมหาวิทยาลัย ( ) พนักงานราชการ ( ) ลูกจ้างประจำ ( ) ลูกจ้างเงินรายได้ | G5: รอบที่ 2/ | H5: =ปริมาณ!H5 -> 2564 | I5: วันที่ 1 ธันวาคม | K5: =ปริมาณ!K5 -> 2564 | L5: ถึง 31 พฤษภาคม | N5: =ปริมาณ!N5 -> 2565
A6: หัวข้อหน้าที่ | C6: น้ำหนัก | D6: ภาระงาน/วัตถุประสงค์ของงาน | F6: น้ำหนัก | G6: ตัวชี้วัดความสำเร็จ | H6: ค่าเป้าหมายและเกณฑ์การให้คะแนน | M6: หลักฐานบ่งชี้ความสำเร็จ
H7: 1 | I7: 2 | J7: 3 | K7: 4 | L7: 5
A8: องค์ประกอบที่ 3 ผลผลิตของงาน มีค่าคะแนน 100 คะแนน คิดเป็น 20%
A9: 1. ผลผลิตของงานจากตัวบุคคล | C9: 10 | D9: 1.1
A10: 2. ผลผลิตของงานจากหน่วยงาน | C10: 10 | D10: 2.1
D11: 2.2
C13: ลงชื่อ | F13: ผู้รับมอบหมายงาน | H13: ลงชื่อ | M13: ผู้มอบหมายงาน
D14: =ปริมาณ!B4 | I14: (นายเอกชัย เนาวนิช)
D15: ........../................./........... | I15: ........../................./...........

Sheet คำนวณคะแนนใน HRD 
A1: สรุปผลการประเมินตามข้อตกลงในการปฏิบัติราชการ
A3: สังกัด | B3: =คุณภาพ!B3 -> สำนักวิทยบริการและเทคโนโลยีสารสนเทศ | C3: งาน | D3: =ปริมาณ!D3 -> 0
A4: ชื่อ-สกุล | B4: =ปริมาณ!B4 | C4: ตำแหน่ง | D4: =ปริมาณ!D4 -> 0 | N4: รอบที่ 1/ | O4: =ปริมาณ!H4 -> 2564 | P4: วันที่ 1 มิถุนายน | R4: =ปริมาณ!K4 -> 2564 | S4: ถึง 30 พฤศจิกายน | T4: =ปริมาณ!N4 -> 2564
A5: เป็น ( ) ข้าราชการ ( ) พนักงานมหาวิทยาลัย ( ) พนักงานราชการ ( ) ลูกจ้างประจำ ( ) ลูกจ้างเงินรายได้ | N5: P รอบที่ 2/ | O5: =ปริมาณ!H5 -> 2564 | P5: วันที่ 1 ธันวาคม | R5: =ปริมาณ!K5 -> 2564 | S5: ถึง 31 พฤษภาคม | T5: =ปริมาณ!N5 -> 2565
A7: องค์ประกอบที่ 1 ปริมาณงาน | H7: องค์ประกอบที่ 2 คุณภาพงาน | O7: องค์ประกอบที่ 3 ผลผลิต
A8: ภาระงาน/วัตถุประสงค์ของงาน | C8: น้ำหนัก | D8: ผลที่ทำได้ | E8: คะแนนรวมที่ได้ | F8: ร้อยละ | G8: คะแนนที่ได้ เพื่อนำไปกรอกใน HRD (เต็ม 5) | H8: ภาระงาน/วัตถุประสงค์ของงาน | J8: น้ำหนัก | K8: ผลที่ทำได้ | L8: คะแนนรวมที่ได้ | M8: ร้อยละ | N8: คะแนนที่ได้ เพื่อนำไปกรอกใน HRD (เต็ม 5) | O8: ภาระงาน/วัตถุประสงค์ของงาน | T8: น้ำหนัก | U8: ผลที่ทำได้ | V8: คะแนนรวมที่ได้ | W8: ร้อยละ | X8: คะแนนที่ได้ เพื่อนำไปกรอกใน HRD (เต็ม 5)
A10: 1. งานตามหน้าที่/งานหลัก | C10: 80 | H10: 1. งานตามหน้าที่/งานหลัก | J10: 80 | O10: 1. ผลผลิตของงานจากตัวบุคคล | T10: 10
A11: 1.1 งาน | B11: =ปริมาณ!B11 -> 0 | C11: 40 | H11: 1.1 | I11: =คุณภาพ!B11 -> 0 | J11: 40 | O11: 1.1 | P11: =ผลผลิตของงาน!E9 -> 0 | T11: =ผลผลิตของงาน!F9 -> 0 | U11: 5 | V11: =(T11*U11)+(T12*U12)+(T13*U13)+(T14*U14)+(T15*U15)+(T16*U16)+(T19*U19)+(T20*U20)+(T21*U21)+(T22*U22) -> #REF! | W11: =V11*100/((T11*5)+(T12*5)+(T13*5)+(T14*5)+(T15*5)+(T16*5)+(T19*5)+(T20*5)+(T21*5)+(T22*5)) -> #REF! | X11: =IF(W11>=90,5,IF(W11>=80,4,IF(W11>=70,3,IF(W11>=60,2,IF(W11<60,1))))) -> #REF!
A12: 1.1.1 | B12: =ปริมาณ!E10 -> 0 | C12: =ปริมาณ!F10 -> 0 | D12: 5 | E12: =(C12*D12)+(C13*D13)+(C14*D14)+(C15*D15)+(C16*D16)+(C17*D17)+(C18*D18) -> 38 | F12: =E12/((C12*5)+(C13*5)+(C14*5)+(C15*5)+(C16*5)+(C17*5)+(C18*5))*100 -> 76 | G12: =IF(F12>=90,5,IF(F12>=80,4,IF(F12>=70,3,IF(F12>=60,2,IF(F12<60,1))))) -> 3 | H12: 1.1.1 | I12: =คุณภาพ!E10 -> 0 | J12: =คุณภาพ!F10 -> 0 | K12: 1 | L12: =(J12*K12)+(J13*K13)+(J14*K14)+(J15*K15)+(J16*K16) -> 0 | M12: =L12/((J12*5)+(J13*5)+(J14*5)+(J15*5)+(J16*5))*100 -> #DIV/0! | N12: =IF(M12>=90,5,IF(M12>=80,4,IF(M12>=70,3,IF(M12>=60,2,IF(M12<60,1))))) -> #DIV/0! | O12: 1.2 | P12: =ผลผลิตของงาน!#REF! -> #REF! | T12: =ผลผลิตของงาน!#REF! -> #REF! | U12: 5
A13: 1.1.2 | B13: =ปริมาณ!E11 -> 0 | C13: =ปริมาณ!F11 -> 0 | D13: 5 | H13: 1.1.2 | I13: =คุณภาพ!E11 -> 0 | J13: =คุณภาพ!F11 -> 0 | K13: 1 | O13: 1.3 | P13: =ผลผลิตของงาน!#REF! -> #REF! | T13: =ผลผลิตของงาน!#REF! -> #REF! | U13: 5
A14: 1.1.3 | B14: =ปริมาณ!E12 -> 0 | C14: 5 | D14: 5 | H14: 1.1.3 | I14: =คุณภาพ!E12 -> 0 | J14: =คุณภาพ!F12 -> 0 | K14: 1 | O14: 1.4 | P14: =ผลผลิตของงาน!#REF! -> #REF! | T14: =ผลผลิตของงาน!#REF! -> #REF! | U14: 5
A15: 1.1.4 | B15: =ปริมาณ!E13 -> 0 | C15: =ปริมาณ!F13 -> 0 | D15: 5 | H15: 1.1.4 | I15: =คุณภาพ!E13 -> 0 | J15: =คุณภาพ!F13 -> 0 | K15: 1 | O15: 1.5 | P15: =ผลผลิตของงาน!#REF! -> #REF! | T15: =ผลผลิตของงาน!#REF! -> #REF! | U15: 5
A16: ......... | B16: =ปริมาณ!E14 -> 0 | C16: =ปริมาณ!F14 -> 0 | D16: 5 | H16: ......... | I16: =คุณภาพ!E14 -> 0 | J16: =คุณภาพ!F14 -> 0 | K16: 1 | O16: 1.6 | P16: =ผลผลิตของงาน!#REF! -> #REF! | T16: =ผลผลิตของงาน!#REF! -> #REF! | U16: 5
C17: 3 | D17: 3
C18: 2 | D18: 2
A19: 1.2 งาน | B19: =ปริมาณ!B18 -> สารบรรณและธุรการ | C19: 20 | H19: 1.2 | I19: =คุณภาพ!B18 -> สารบรรณและธุรการ | J19: 20 | O19: 1.7 | P19: =ผลผลิตของงาน!#REF! -> #REF! | T19: =ผลผลิตของงาน!#REF! -> #REF! | U19: 5
A20: 1.2.1 | B20: =ปริมาณ!E17 -> 0 | C20: =ปริมาณ!F17 -> 0 | D20: 5 | E20: =(C20*D20)+(C21*D21)+(C22*D22) -> 0 | F20: =E20*100/((C20*5)+(C21*5)+(C22*5)) -> #DIV/0! | G20: =IF(F20>=90,5,IF(F20>=80,4,IF(F20>=70,3,IF(F20>=60,2,IF(F20<60,1))))) -> #DIV/0! | H20: 1.2.1 | I20: =คุณภาพ!E17 -> 0 | J20: =คุณภาพ!F17 -> 0 | K20: 2 | L20: =(J20*K20)+(J21*K21)+(J22*K22) -> 0 | M20: =L20*100/((J20*5)+(J21*5)+(J22*5)) -> #DIV/0! | N20: =IF(M20>=90,5,IF(M20>=80,4,IF(M20>=70,3,IF(M20>=60,2,IF(M20<60,1))))) -> #DIV/0! | O20: 1.8 | P20: =ผลผลิตของงาน!#REF! -> #REF! | T20: =ผลผลิตของงาน!#REF! -> #REF! | U20: 5
A21: 1.2.2 | B21: =ปริมาณ!E18 -> 0 | C21: =ปริมาณ!F18 -> 0 | D21: 5 | H21: 1.2.2 | I21: =คุณภาพ!E18 -> 0 | J21: =คุณภาพ!F18 -> 0 | K21: 2 | O21: 1.9 | P21: =ผลผลิตของงาน!#REF! -> #REF! | T21: =ผลผลิตของงาน!#REF! -> #REF! | U21: 5
A22: .......... | B22: =ปริมาณ!E20 -> 0 | C22: =ปริมาณ!F20 -> 0 | D22: 5 | H22: .......... | I22: =คุณภาพ!E20 -> 0 | J22: =คุณภาพ!F20 -> 0 | K22: 2 | O22: 1.1 | P22: =ผลผลิตของงาน!#REF! -> #REF! | T22: =ผลผลิตของงาน!#REF! -> #REF! | U22: 5
A23: 1.3 งาน | B23: =ปริมาณ!B22 -> 0 | C23: 20 | H23: 1.3 | I23: =คุณภาพ!B22 -> ส่งเสริมคุณภาพ | J23: 20 | O23: 2. ผลผลิตของงานจากหน่วยงาน | T23: 10
A24: 1.3.1 | B24: =ปริมาณ!E21 -> 0 | C24: =ปริมาณ!F21 -> 0 | D24: 5 | E24: =(C24*D24)+(C25*D25)+(C26*D26) -> #REF! | F24: =E24*100/((C24*5)+(C25*5)+(C26*5)) -> #REF! | G24: =IF(F24>=90,5,IF(F24>=80,4,IF(F24>=70,3,IF(F24>=60,2,IF(F24<60,1))))) -> #REF! | H24: 1.3.1 | I24: =คุณภาพ!E21 -> 0 | J24: =คุณภาพ!F21 -> 0 | K24: 3 | L24: =(J24*K24)+(J25*K25)+(J26*K26) -> #REF! | M24: =L24*100/((J24*5)+(J25*5)+(J26*5)) -> #REF! | N24: =IF(M24>=90,5,IF(M24>=80,4,IF(M24>=70,3,IF(M24>=60,2,IF(M24<60,1))))) -> #REF! | O24: 2.1 | P24: =ผลผลิตของงาน!E10 -> 0 | T24: =ผลผลิตของงาน!F10 -> 0 | U24: 5 | V24: =(T24*U24)+(T25*U25)+(T26*U26)+(T27*U27)+(T28*U28)+(T29*U29)+(T30*U30)+(T31*U31)+(T32*U32)+(T33*U33) -> #REF! | W24: =V24*100/((T24*5)+(T25*5)+(T26*5)+(T27*5)+(T28*5)+(T29*5)+(T30*5)+(T31*5)+(T32*5)+(T33*5)) -> #REF! | X24: =IF(W24>=90,5,IF(W24>=80,4,IF(W24>=70,3,IF(W24>=60,2,IF(W24<60,1))))) -> #REF!
A25: 1.3.2 | B25: =ปริมาณ!E22 -> 0 | C25: =ปริมาณ!F22 -> 0 | D25: 5 | H25: 1.3.2 | I25: =คุณภาพ!E22 -> 0 | J25: =คุณภาพ!F22 -> 0 | K25: 3 | O25: 2.2 | P25: =ผลผลิตของงาน!E11 -> 0 | T25: =ผลผลิตของงาน!F11 -> 0 | U25: 5
A26: ........... | B26: =ปริมาณ!#REF! -> #REF! | C26: =ปริมาณ!#REF! -> #REF! | D26: 5 | H26: ........... | I26: =คุณภาพ!#REF! -> #REF! | J26: =คุณภาพ!#REF! -> #REF! | K26: 3 | O26: 2.3 | P26: =ผลผลิตของงาน!#REF! -> #REF! | T26: =ผลผลิตของงาน!#REF! -> #REF! | U26: 5
A27: 2. งานเพื่อการพัฒนา | C27: 10 | H27: 2. งานเพื่อการพัฒนา | J27: 10 | O27: 2.4 | P27: =ผลผลิตของงาน!#REF! -> #REF! | T27: =ผลผลิตของงาน!#REF! -> #REF! | U27: 5
A28: 2.1.1 | B28: =ปริมาณ!E25 -> พัฒนางานที่ทำอยู่ | C28: =ปริมาณ!F25 -> 0 | D28: 5 | E28: =(C28*D28)+(C29*D29)+(C30*D30) -> #REF! | F28: =E28*100/((C28*5)+(C29*5)+(C30*5)) -> #REF! | G28: =IF(F28>=90,5,IF(F28>=80,4,IF(F28>=70,3,IF(F28>=60,2,IF(F28<60,1))))) -> #REF! | H28: 2.1.1 | I28: =คุณภาพ!E25 -> พัฒนางานที่ทำอยู่ | J28: =คุณภาพ!F25 -> 0 | K28: 4 | L28: =(J28*K28)+(J29*K29)+(J30*K30) -> #REF! | M28: =L28*100/((J28*5)+(J29*5)+(J30*5)) -> #REF! | N28: =IF(M28>=90,5,IF(M28>=80,4,IF(M28>=70,3,IF(M28>=60,2,IF(M28<60,1))))) -> #REF! | O28: 2.5 | P28: =ผลผลิตของงาน!#REF! -> #REF! | T28: =ผลผลิตของงาน!#REF! -> #REF! | U28: 5
A29: 2.1.2 | B29: =ปริมาณ!E26 -> พัฒนาตนเองตามตำแหน่งงาน และพัฒนาด้านอื่น ๆ อีกไม่น้อยกว่า 2 ด้าน | C29: =ปริมาณ!#REF! -> #REF! | D29: 5 | H29: 2.1.2 | I29: =คุณภาพ!#REF! -> #REF! | J29: =คุณภาพ!#REF! -> #REF! | K29: 4 | O29: 2.6 | P29: =ผลผลิตของงาน!#REF! -> #REF! | T29: =ผลผลิตของงาน!#REF! -> #REF! | U29: 5
A30: 2.1.3 | B30: =ปริมาณ!E26 -> พัฒนาตนเองตามตำแหน่งงาน และพัฒนาด้านอื่น ๆ อีกไม่น้อยกว่า 2 ด้าน | C30: =ปริมาณ!F26 -> 0 | D30: 5 | H30: 2.1.3 | I30: =คุณภาพ!E26 -> พัฒนาตนเองตามตำแหน่งงาน และพัฒนาด้านอื่น ๆ อีกไม่น้อยกว่า 2 ด้าน | J30: =คุณภาพ!F26 -> 0 | K30: 4 | O30: 2.7 | P30: =ผลผลิตของงาน!#REF! -> #REF! | T30: =ผลผลิตของงาน!#REF! -> #REF! | U30: 5
A31: 3. งานที่ได้รับมอบหมายพิเศษ | C31: 10 | H31: 3. งานที่ได้รับมอบหมายพิเศษ | J31: 10 | O31: 2.8 | P31: =ผลผลิตของงาน!#REF! -> #REF! | T31: =ผลผลิตของงาน!#REF! -> #REF! | U31: 5
A32: 3.1.1 | B32: =ปริมาณ!E28 -> 0 | C32: =ปริมาณ!F28 -> 0 | D32: 5 | E32: =(C32*D32)+(C33*D33)+(C34*D34) -> 0 | F32: =E32*100/((C32*5)+(C33*5)+(C34*5)) -> #DIV/0! | G32: =IF(F32>=90,5,IF(F32>=80,4,IF(F32>=70,3,IF(F32>=60,2,IF(F32<60,1))))) -> #DIV/0! | H32: 3.1.1 | I32: =คุณภาพ!E28 -> 0 | J32: =คุณภาพ!F28 -> 0 | K32: 5 | L32: =(J32*K32)+(J33*K33)+(J34*K34) -> 0 | M32: =L32*100/((J32*5)+(J33*5)+(J34*5)) -> #DIV/0! | N32: =IF(M32>=90,5,IF(M32>=80,4,IF(M32>=70,3,IF(M32>=60,2,IF(M32<60,1))))) -> #DIV/0! | O32: 2.9 | P32: =ผลผลิตของงาน!#REF! -> #REF! | T32: =ผลผลิตของงาน!#REF! -> #REF! | U32: 5
A33: 3.1.2 | B33: =ปริมาณ!E29 -> 0 | C33: =ปริมาณ!F29 -> 0 | D33: 5 | H33: 3.1.2 | I33: =คุณภาพ!E29 -> 0 | J33: =คุณภาพ!F29 -> 0 | K33: 5 | O33: 2.1 | P33: =ผลผลิตของงาน!#REF! -> #REF! | T33: =ผลผลิตของงาน!#REF! -> #REF! | U33: 5
A34: 3.1.3 | B34: =ปริมาณ!E30 -> 0 | C34: =ปริมาณ!F30 -> 0 | D34: 5 | H34: 3.1.3 | I34: =คุณภาพ!E30 -> 0 | J34: =คุณภาพ!F30 -> 0 | K34: 5
G36: ลงชื่อ | J36: ผู้รับมอบหมายงาน | N36: ลงชื่อ | T36: ผู้มอบหมายงาน
H37: =ปริมาณ!B4 | O37: (นายเอกชัย เนาวนิช)
H38: ........../................./........... | O38: ........../................./...........

Sheet ผลผลิตของงาน (ผอ)
A1: แบบฟอร์มตามข้อตกลงการกำหนดตัวชี้วัดเพื่อประเมินผลการปฏิบัติราชการ (Performmance Agreement)
A3: สังกัด | B3: =คุณภาพ!B3 -> สำนักวิทยบริการและเทคโนโลยีสารสนเทศ | C3: งาน | D3: =ปริมาณ!D3 -> 0
A4: ชื่อ-สกุล | B4: =ปริมาณ!B4 | C4: ตำแหน่ง | D4: =ปริมาณ!D4 -> 0 | F4: รอบที่ 1/ | G4: =ปริมาณ!H4 -> 2564 | H4: วันที่ 1 มิถุนายน | J4: =ปริมาณ!K4 -> 2564 | K4: ถึง 30 พฤศจิกายน | M4: =ปริมาณ!N4 -> 2564
A5: เป็น ( ) ข้าราชการ ( P ) พนักงานมหาวิทยาลัย ( ) พนักงานราชการ ( ) ลูกจ้างประจำ ( ) ลูกจ้างเงินรายได้ | F5: รอบที่ 2/ | G5: =ปริมาณ!H5 -> 2564 | H5: วันที่ 1 ธันวาคม | J5: =ปริมาณ!K5 -> 2564 | K5: ถึง 31 พฤษภาคม | M5: =ปริมาณ!N5 -> 2565
A6: หัวข้อหน้าที่ | C6: น้ำหนัก | D6: ภาระงาน/วัตถุประสงค์ของงาน | F6: ตัวชี้วัดความสำเร็จ | G6: ผลผลิต | L6: หลักฐานบ่งชี้ความสำเร็จ
A8: องค์ประกอบที่ 3 ผลผลิตของงาน มีค่าคะแนน 100 คะแนน คิดเป็น 20%
A9: 1. ผลผลิตของงานจากตัวบุคคล | C9: 10 | D9: 1.1
A10: 2. ผลผลิตของงานจากหน่วยงาน | C10: 10 | D10: 2.1
D11: 2.2
A19: ลงชื่อ | B19: ……………………………………………………ผู้รับมอบหมายงาน | E19: ลงชื่อ................................................................... | F19: หัวหน้างาน……………………. | G19: ลงชื่อ | H19: ................................................................. | L19: ผู้มอบหมายงาน
B20: ( ) | E20: ( ) | H20: (นายเอกชัย เนาวนิช)
B21: ........../................./........... | E21: ........../................./........... | H21: ........../................./...........
